BEGIN:VCALENDAR
VERSION:2.0
CALSCALE:GREGORIAN
PRODID:-//Diputació de Barcelona//DibaCMS//EN
BEGIN:VEVENT
UID:25941
DTSTAMP:20260422T153044
DTSTART:20231217T173000
DTEND:20231217T173000
SUMMARY:Nadal 2023-2024.  XII Festival de Nadal Patinatge Caldes i II Conte de Nadal
LOCATION:Passatge Torre Roja, s/n 08140 Caldes de Montbui
METHOD:PUBLISH
X-WR-CALNAME:caldesm@caldesdemontbui.cat
X-WR-TIMEZONE:Europe/Madrid
DESCRIPTION:
URI:https://www.caldesdemontbui.cat/actualitat/agenda/nadal-2023-2024-xii-festival-de-nadal-patinatge-caldes-i-ii-conte-de-nadal.html
CLASS:PUBLIC
END:VEVENT
END:VCALENDAR
