BEGIN:VCALENDAR
VERSION:2.0
CALSCALE:GREGORIAN
PRODID:-//Diputació de Barcelona//DibaCMS//EN
BEGIN:VEVENT
UID:25940
DTSTAMP:20260423T011148
DTSTART:20231217T123000
DTEND:20231217T123000
SUMMARY:Nadal 2023-2024. Lliurament de premis al voluntariat
LOCATION:
METHOD:PUBLISH
X-WR-CALNAME:caldesm@caldesdemontbui.cat
X-WR-TIMEZONE:Europe/Madrid
DESCRIPTION:
URI:https://www.caldesdemontbui.cat/actualitat/agenda/nadal-2023-2024-lliurament-de-premis-al-voluntariat.html
CLASS:PUBLIC
END:VEVENT
END:VCALENDAR
