BEGIN:VCALENDAR
VERSION:2.0
CALSCALE:GREGORIAN
PRODID:-//Diputació de Barcelona//DibaCMS//EN
BEGIN:VEVENT
UID:25937
DTSTAMP:20260422T104545
DTSTART:20231217T100000
DTEND:20231217T100000
SUMMARY:Nadal 2023-2024. Festa Solidària
LOCATION:
METHOD:PUBLISH
X-WR-CALNAME:caldesm@caldesdemontbui.cat
X-WR-TIMEZONE:Europe/Madrid
DESCRIPTION:
URI:https://www.caldesdemontbui.cat/actualitat/agenda/nadal-2023-2024-festa-solidaria.html
CLASS:PUBLIC
END:VEVENT
END:VCALENDAR
