BEGIN:VCALENDAR
VERSION:2.0
CALSCALE:GREGORIAN
PRODID:-//Diputació de Barcelona//DibaCMS//EN
BEGIN:VEVENT
UID:25936
DTSTAMP:20260422T111114
DTSTART:20231216T213000
DTEND:20231216T213000
SUMMARY:Nadal 2023-2024. Quinto de Nadal
LOCATION:
METHOD:PUBLISH
X-WR-CALNAME:caldesm@caldesdemontbui.cat
X-WR-TIMEZONE:Europe/Madrid
DESCRIPTION:
URI:https://www.caldesdemontbui.cat/actualitat/agenda/nadal-2023-2024-quinto-de-nadal.html
CLASS:PUBLIC
END:VEVENT
END:VCALENDAR
