BEGIN:VCALENDAR
VERSION:2.0
CALSCALE:GREGORIAN
PRODID:-//Diputació de Barcelona//DibaCMS//EN
BEGIN:VEVENT
UID:25934
DTSTAMP:20260422T073803
DTSTART:20231216T170000
DTEND:20231216T170000
SUMMARY:Nadal 2023-2024. “Pastorets, la gran aventura” de la roda produccions
LOCATION:
METHOD:PUBLISH
X-WR-CALNAME:caldesm@caldesdemontbui.cat
X-WR-TIMEZONE:Europe/Madrid
DESCRIPTION:
URI:https://www.caldesdemontbui.cat/actualitat/agenda/nadal-2023-2024-pastorets-la-gran-aventura-de-la-roda-produccions.html
CLASS:PUBLIC
END:VEVENT
END:VCALENDAR
