BEGIN:VCALENDAR
VERSION:2.0
CALSCALE:GREGORIAN
PRODID:-//Diputació de Barcelona//DibaCMS//EN
BEGIN:VEVENT
UID:25932
DTSTAMP:20260422T042146
DTSTART:20231218T191500
DTEND:20231218T191500
SUMMARY:Nadal 2023-2024. Nadales al vestíbul
LOCATION:Buenos Aires, 16 08140 Caldes de Montbui
METHOD:PUBLISH
X-WR-CALNAME:caldesm@caldesdemontbui.cat
X-WR-TIMEZONE:Europe/Madrid
DESCRIPTION:
URI:https://www.caldesdemontbui.cat/actualitat/agenda/nadal-2023-2024-nadales-al-vestibul.html
CLASS:PUBLIC
END:VEVENT
END:VCALENDAR
