BEGIN:VCALENDAR
VERSION:2.0
CALSCALE:GREGORIAN
PRODID:-//Diputació de Barcelona//DibaCMS//EN
BEGIN:VEVENT
UID:25931
DTSTAMP:20260422T060919
DTSTART:20231215T193000
DTEND:20231215T193000
SUMMARY:Nadal 2023-2024. Audició i xerrada sobre l’oratori del Pessebre de Pau Casals
LOCATION:Carrer del Pont, 3 08140 Caldes de Montbui
METHOD:PUBLISH
X-WR-CALNAME:caldesm@caldesdemontbui.cat
X-WR-TIMEZONE:Europe/Madrid
DESCRIPTION:
URI:https://www.caldesdemontbui.cat/actualitat/agenda/nadal-2023-2024-audicio-i-xerrada-sobre-loratori-del-pessebre-de-pau-casals.html
CLASS:PUBLIC
END:VEVENT
END:VCALENDAR
