BEGIN:VCALENDAR
VERSION:2.0
CALSCALE:GREGORIAN
PRODID:-//Diputació de Barcelona//DibaCMS//EN
BEGIN:VEVENT
UID:25930
DTSTAMP:20260422T073225
DTSTART:20231214T190000
DTEND:20231214T190000
SUMMARY:Visita comentada a l'exposició "Transumanza"
LOCATION: Corredossos de Baix, 9-11 (antic 1) 8140 Caldes de Montbui
METHOD:PUBLISH
X-WR-CALNAME:caldesm@caldesdemontbui.cat
X-WR-TIMEZONE:Europe/Madrid
DESCRIPTION:
URI:https://www.caldesdemontbui.cat/actualitat/agenda/visita-comentada-a-lexposicio-transumanza.html
CLASS:PUBLIC
END:VEVENT
END:VCALENDAR
