BEGIN:VCALENDAR
VERSION:2.0
CALSCALE:GREGORIAN
PRODID:-//Diputació de Barcelona//DibaCMS//EN
BEGIN:VEVENT
UID:25922
DTSTAMP:20260422T073300
DTSTART:20231214T180000
DTEND:20231214T180000
SUMMARY:Dijous de conte “Contes de Nadal” 
LOCATION:Santa Teresa, 3-5 08140 Caldes de Montbui
METHOD:PUBLISH
X-WR-CALNAME:caldesm@caldesdemontbui.cat
X-WR-TIMEZONE:Europe/Madrid
DESCRIPTION:
URI:https://www.caldesdemontbui.cat/actualitat/agenda/dijous-de-conte-contes-de-nadal-.html
CLASS:PUBLIC
END:VEVENT
END:VCALENDAR
