BEGIN:VCALENDAR
VERSION:2.0
CALSCALE:GREGORIAN
PRODID:-//Diputació de Barcelona//DibaCMS//EN
BEGIN:VEVENT
UID:25913
DTSTAMP:20260422T071442
DTSTART:20231213T184500
DTEND:20231213T184500
SUMMARY:Nadales al vestíbul
LOCATION:Buenos Aires, 16 08140 Caldes de Montbui
METHOD:PUBLISH
X-WR-CALNAME:caldesm@caldesdemontbui.cat
X-WR-TIMEZONE:Europe/Madrid
DESCRIPTION:
URI:https://www.caldesdemontbui.cat/actualitat/agenda/nadales-al-vestibul.html
CLASS:PUBLIC
END:VEVENT
END:VCALENDAR
