BEGIN:VCALENDAR
VERSION:2.0
CALSCALE:GREGORIAN
PRODID:-//Diputació de Barcelona//DibaCMS//EN
BEGIN:VEVENT
UID:25905
DTSTAMP:20260422T124425
DTSTART:20231209T100000
DTEND:20231209T200000
SUMMARY:Mercat de Nadal 2023, del 5 al 10 de desembre   
LOCATION:
METHOD:PUBLISH
X-WR-CALNAME:caldesm@caldesdemontbui.cat
X-WR-TIMEZONE:Europe/Madrid
DESCRIPTION:
URI:https://www.caldesdemontbui.cat/actualitat/agenda/25905-mercat-de-nadal-2023-del-5-al-10-de-desembre-.html
CLASS:PUBLIC
END:VEVENT
END:VCALENDAR
