BEGIN:VCALENDAR
VERSION:2.0
CALSCALE:GREGORIAN
PRODID:-//Diputació de Barcelona//DibaCMS//EN
BEGIN:VEVENT
UID:25886
DTSTAMP:20260422T091902
DTSTART:20231203T100000
DTEND:20231203T130000
SUMMARY:Conferència d' Autodescobriment de Aleix Garriga Gascons sobre "La Biologia de la Informació"
LOCATION:Carrer del Pont, 3 08140 Caldes de Montbui
METHOD:PUBLISH
X-WR-CALNAME:caldesm@caldesdemontbui.cat
X-WR-TIMEZONE:Europe/Madrid
DESCRIPTION:
URI:https://www.caldesdemontbui.cat/actualitat/agenda/conferencia-d-autodescobriment-de-aleix-garriga-gascons-sobre-la-biologia-de-la-informacio.html
CLASS:PUBLIC
END:VEVENT
END:VCALENDAR
