BEGIN:VCALENDAR
VERSION:2.0
CALSCALE:GREGORIAN
PRODID:-//Diputació de Barcelona//DibaCMS//EN
BEGIN:VEVENT
UID:25864
DTSTAMP:20260422T140919
DTSTART:20231124T183000
DTEND:20231124T183000
SUMMARY:Encesa de llums i de l'arbre de Nadal 2023
LOCATION:
METHOD:PUBLISH
X-WR-CALNAME:caldesm@caldesdemontbui.cat
X-WR-TIMEZONE:Europe/Madrid
DESCRIPTION:
URI:https://www.caldesdemontbui.cat/actualitat/agenda/encesa-de-llums-i-de-larbre-de-nadal-2023.html
CLASS:PUBLIC
END:VEVENT
END:VCALENDAR
