BEGIN:VCALENDAR
VERSION:2.0
CALSCALE:GREGORIAN
PRODID:-//Diputació de Barcelona//DibaCMS//EN
BEGIN:VEVENT
UID:25861
DTSTAMP:20260422T144538
DTSTART:20231201T180000
DTEND:20231201T210000
SUMMARY:Classe oberta d'armes tradicionals japoneses i aikido
LOCATION:C. Buenos Aires, 56 8140 Caldes de Montbui
METHOD:PUBLISH
X-WR-CALNAME:caldesm@caldesdemontbui.cat
X-WR-TIMEZONE:Europe/Madrid
DESCRIPTION:
URI:https://www.caldesdemontbui.cat/actualitat/agenda/classe-oberta-darmes-tradicionals-japoneses-i-aikido.html
CLASS:PUBLIC
END:VEVENT
END:VCALENDAR
