BEGIN:VCALENDAR
VERSION:2.0
CALSCALE:GREGORIAN
PRODID:-//Diputació de Barcelona//DibaCMS//EN
BEGIN:VEVENT
UID:25857
DTSTAMP:20260422T125005
DTSTART:20231129T180000
DTEND:20231129T200000
SUMMARY:Xerrada-taller “Els valors que ens uneixen”
LOCATION:C. Mestre Gregori Montserrat, 4 08140 Caldes de Montbui
METHOD:PUBLISH
X-WR-CALNAME:caldesm@caldesdemontbui.cat
X-WR-TIMEZONE:Europe/Madrid
DESCRIPTION:Xerrada-taller a càrrec de l’ex nedadora paralímpica Carla Casals, comunicòloga i formadora del foment del benestar emocional

URI:https://www.caldesdemontbui.cat/actualitat/agenda/xerrada-taller-els-valors-que-ens-uneixen.html
CLASS:PUBLIC
END:VEVENT
END:VCALENDAR
