BEGIN:VCALENDAR
VERSION:2.0
CALSCALE:GREGORIAN
PRODID:-//Diputació de Barcelona//DibaCMS//EN
BEGIN:VEVENT
UID:25853
DTSTAMP:20260422T193826
DTSTART:20231120T173000
DTEND:20231120T173000
SUMMARY:Conversem sobre el dol “Ve Nadal i tu no hi ets”
LOCATION:Santa Teresa, 3-5 08140 Caldes de Montbui
METHOD:PUBLISH
X-WR-CALNAME:caldesm@caldesdemontbui.cat
X-WR-TIMEZONE:Europe/Madrid
DESCRIPTION:
URI:https://www.caldesdemontbui.cat/actualitat/agenda/conversem-sobre-el-dol-ve-nadal-i-tu-no-hi-ets.html
CLASS:PUBLIC
END:VEVENT
END:VCALENDAR
