BEGIN:VCALENDAR
VERSION:2.0
CALSCALE:GREGORIAN
PRODID:-//Diputació de Barcelona//DibaCMS//EN
BEGIN:VEVENT
UID:25852
DTSTAMP:20260422T090947
DTSTART:20231126T120000
DTEND:20231126T120000
SUMMARY:Concert de l’Orquestra Municipal de l’Escola de Música Joan Valls
LOCATION:Carrer del Pont, 3 08140 Caldes de Montbui
METHOD:PUBLISH
X-WR-CALNAME:caldesm@caldesdemontbui.cat
X-WR-TIMEZONE:Europe/Madrid
DESCRIPTION:
URI:https://www.caldesdemontbui.cat/actualitat/agenda/concert-de-lorquestra-municipal-de-lescola-de-musica-joan-valls.html
CLASS:PUBLIC
END:VEVENT
END:VCALENDAR
