BEGIN:VCALENDAR
VERSION:2.0
CALSCALE:GREGORIAN
PRODID:-//Diputació de Barcelona//DibaCMS//EN
BEGIN:VEVENT
UID:25841
DTSTAMP:20260422T025256
DTSTART:20240507T160000
DTEND:20240507T210000
SUMMARY:Campanya de donació de sang
LOCATION:Infantil i Primària: Av. Josep Fontcuberta, 166 / ESO i Batxillerat: Av. Pi i Margall, 157 08140 Caldes de Montbui
METHOD:PUBLISH
X-WR-CALNAME:caldesm@caldesdemontbui.cat
X-WR-TIMEZONE:Europe/Madrid
DESCRIPTION:
URI:https://www.caldesdemontbui.cat/actualitat/agenda/25841-campanya-de-donacio-de-sang.html
CLASS:PUBLIC
END:VEVENT
END:VCALENDAR
