BEGIN:VCALENDAR
VERSION:2.0
CALSCALE:GREGORIAN
PRODID:-//Diputació de Barcelona//DibaCMS//EN
BEGIN:VEVENT
UID:25836
DTSTAMP:20260422T090318
DTSTART:20231202T103000
DTEND:20231202T103000
SUMMARY:Xocolatada solidària per la dermatomiositis juvenil
LOCATION:
METHOD:PUBLISH
X-WR-CALNAME:caldesm@caldesdemontbui.cat
X-WR-TIMEZONE:Europe/Madrid
DESCRIPTION:
URI:https://www.caldesdemontbui.cat/actualitat/agenda/xocolatada-solidaria-per-la-dermatomiositis-juvenil.html
CLASS:PUBLIC
END:VEVENT
END:VCALENDAR
