BEGIN:VCALENDAR
VERSION:2.0
CALSCALE:GREGORIAN
PRODID:-//Diputació de Barcelona//DibaCMS//EN
BEGIN:VEVENT
UID:25833
DTSTAMP:20260422T140741
DTSTART:20231126T120000
DTEND:20231126T120000
SUMMARY:Inauguració de la plaça de la Villa de Siles
LOCATION:
METHOD:PUBLISH
X-WR-CALNAME:caldesm@caldesdemontbui.cat
X-WR-TIMEZONE:Europe/Madrid
DESCRIPTION:
URI:https://www.caldesdemontbui.cat/actualitat/agenda/inauguracio-de-la-placa-de-la-villa-de-siles.html
CLASS:PUBLIC
END:VEVENT
END:VCALENDAR
