BEGIN:VCALENDAR
VERSION:2.0
CALSCALE:GREGORIAN
PRODID:-//Diputació de Barcelona//DibaCMS//EN
BEGIN:VEVENT
UID:25813
DTSTAMP:20260422T122007
DTSTART:20231129T090000
DTEND:20231129T090000
SUMMARY:Caminada al Parc de Can Rius
LOCATION:
METHOD:PUBLISH
X-WR-CALNAME:caldesm@caldesdemontbui.cat
X-WR-TIMEZONE:Europe/Madrid
DESCRIPTION:
URI:https://www.caldesdemontbui.cat/actualitat/agenda/caminada-al-parc-de-can-rius.html
CLASS:PUBLIC
END:VEVENT
END:VCALENDAR
