BEGIN:VCALENDAR
VERSION:2.0
CALSCALE:GREGORIAN
PRODID:-//Diputació de Barcelona//DibaCMS//EN
BEGIN:VEVENT
UID:25811
DTSTAMP:20260422T111027
DTSTART:20231124T203000
DTEND:20231124T203000
SUMMARY:Sopar Ball
LOCATION:C. Mestre Gregori Montserrat, 4 08140 Caldes de Montbui
METHOD:PUBLISH
X-WR-CALNAME:caldesm@caldesdemontbui.cat
X-WR-TIMEZONE:Europe/Madrid
DESCRIPTION:
URI:https://www.caldesdemontbui.cat/actualitat/agenda/25811-sopar-ball.html
CLASS:PUBLIC
END:VEVENT
END:VCALENDAR
