BEGIN:VCALENDAR
VERSION:2.0
CALSCALE:GREGORIAN
PRODID:-//Diputació de Barcelona//DibaCMS//EN
BEGIN:VEVENT
UID:25808
DTSTAMP:20260422T124807
DTSTART:20231115T090000
DTEND:20231115T090000
SUMMARY:Caminada a la Torre Marimon
LOCATION:
METHOD:PUBLISH
X-WR-CALNAME:caldesm@caldesdemontbui.cat
X-WR-TIMEZONE:Europe/Madrid
DESCRIPTION:
URI:https://www.caldesdemontbui.cat/actualitat/agenda/25808-caminada-a-la-torre-marimon.html
CLASS:PUBLIC
END:VEVENT
END:VCALENDAR
