BEGIN:VCALENDAR
VERSION:2.0
CALSCALE:GREGORIAN
PRODID:-//Diputació de Barcelona//DibaCMS//EN
BEGIN:VEVENT
UID:25806
DTSTAMP:20260422T205503
DTSTART:20231111T130000
DTEND:20231111T130000
SUMMARY:Dinar de celebració del centenari de la Coral
LOCATION:Barcelona, 12 08140 Caldes de Montbui
METHOD:PUBLISH
X-WR-CALNAME:caldesm@caldesdemontbui.cat
X-WR-TIMEZONE:Europe/Madrid
DESCRIPTION:
URI:https://www.caldesdemontbui.cat/actualitat/agenda/dinar-de-celebracio-del-centenari-de-la-coral.html
CLASS:PUBLIC
END:VEVENT
END:VCALENDAR
