BEGIN:VCALENDAR
VERSION:2.0
CALSCALE:GREGORIAN
PRODID:-//Diputació de Barcelona//DibaCMS//EN
BEGIN:VEVENT
UID:25805
DTSTAMP:20260422T193739
DTSTART:20231108T090000
DTEND:20231108T090000
SUMMARY:Caminada a la Torre Nova
LOCATION:
METHOD:PUBLISH
X-WR-CALNAME:caldesm@caldesdemontbui.cat
X-WR-TIMEZONE:Europe/Madrid
DESCRIPTION:
URI:https://www.caldesdemontbui.cat/actualitat/agenda/25805-caminada-a-la-torre-nova.html
CLASS:PUBLIC
END:VEVENT
END:VCALENDAR
