BEGIN:VCALENDAR
VERSION:2.0
CALSCALE:GREGORIAN
PRODID:-//Diputació de Barcelona//DibaCMS//EN
BEGIN:VEVENT
UID:25803
DTSTAMP:20260422T111353
DTSTART:20231125T170000
DTEND:20231125T170000
SUMMARY:25N. Lectura del manifest institucional
LOCATION:
METHOD:PUBLISH
X-WR-CALNAME:caldesm@caldesdemontbui.cat
X-WR-TIMEZONE:Europe/Madrid
DESCRIPTION:
URI:https://www.caldesdemontbui.cat/actualitat/agenda/25803-25n-lectura-del-manifest-institucional.html
CLASS:PUBLIC
END:VEVENT
END:VCALENDAR
