BEGIN:VCALENDAR
VERSION:2.0
CALSCALE:GREGORIAN
PRODID:-//Diputació de Barcelona//DibaCMS//EN
BEGIN:VEVENT
UID:25801
DTSTAMP:20260422T090916
DTSTART:20231123T190000
DTEND:20231123T190000
SUMMARY:25N. Conferència "Camins a Roma"
LOCATION: Corredossos de Baix, 9-11 (antic 1) 8140 Caldes de Montbui
METHOD:PUBLISH
X-WR-CALNAME:caldesm@caldesdemontbui.cat
X-WR-TIMEZONE:Europe/Madrid
DESCRIPTION:
URI:https://www.caldesdemontbui.cat/actualitat/agenda/25n-conferencia-camins-a-roma.html
CLASS:PUBLIC
END:VEVENT
END:VCALENDAR
