BEGIN:VCALENDAR
VERSION:2.0
CALSCALE:GREGORIAN
PRODID:-//Diputació de Barcelona//DibaCMS//EN
BEGIN:VEVENT
UID:25797
DTSTAMP:20260422T130545
DTSTART:20231112T113000
DTEND:20231112T113000
SUMMARY:Diada de la Colla Castellera
LOCATION:
METHOD:PUBLISH
X-WR-CALNAME:caldesm@caldesdemontbui.cat
X-WR-TIMEZONE:Europe/Madrid
DESCRIPTION:
URI:https://www.caldesdemontbui.cat/actualitat/agenda/diada-de-la-colla-castellera.html
CLASS:PUBLIC
END:VEVENT
END:VCALENDAR
