BEGIN:VCALENDAR
VERSION:2.0
CALSCALE:GREGORIAN
PRODID:-//Diputació de Barcelona//DibaCMS//EN
BEGIN:VEVENT
UID:25780
DTSTAMP:20260422T155111
DTSTART:20231111T173000
DTEND:20231111T230000
SUMMARY:Festes de la Virgen del Quinche 
LOCATION:
METHOD:PUBLISH
X-WR-CALNAME:caldesm@caldesdemontbui.cat
X-WR-TIMEZONE:Europe/Madrid
DESCRIPTION:
URI:https://www.caldesdemontbui.cat/actualitat/agenda/festes-de-la-virgen-del-quinche-.html
CLASS:PUBLIC
END:VEVENT
END:VCALENDAR
