BEGIN:VCALENDAR
VERSION:2.0
CALSCALE:GREGORIAN
PRODID:-//Diputació de Barcelona//DibaCMS//EN
BEGIN:VEVENT
UID:25776
DTSTAMP:20260422T125437
DTSTART:20231114T180000
DTEND:20231114T180000
SUMMARY:Cicle de cinema "Joyas del dolor"
LOCATION:Santa Teresa, 3-5 08140 Caldes de Montbui
METHOD:PUBLISH
X-WR-CALNAME:caldesm@caldesdemontbui.cat
X-WR-TIMEZONE:Europe/Madrid
DESCRIPTION:
URI:https://www.caldesdemontbui.cat/actualitat/agenda/cicle-de-cinema-joyas-del-dolor.html
CLASS:PUBLIC
END:VEVENT
END:VCALENDAR
