BEGIN:VCALENDAR
VERSION:2.0
CALSCALE:GREGORIAN
PRODID:-//Diputació de Barcelona//DibaCMS//EN
BEGIN:VEVENT
UID:25758
DTSTAMP:20260422T174109
DTSTART:20231103T170000
DTEND:20231103T170000
SUMMARY:Homenatge a Pere Torrades, deportat calderí a Dachau 
LOCATION:
METHOD:PUBLISH
X-WR-CALNAME:caldesm@caldesdemontbui.cat
X-WR-TIMEZONE:Europe/Madrid
DESCRIPTION:Xerrada sobre la deportació republicana al camp de Dachau

URI:https://www.caldesdemontbui.cat/actualitat/agenda/homenatge-a-pere-torrades-deportat-calderi-a-dachau-.html
CLASS:PUBLIC
END:VEVENT
END:VCALENDAR
