BEGIN:VCALENDAR
VERSION:2.0
CALSCALE:GREGORIAN
PRODID:-//Diputació de Barcelona//DibaCMS//EN
BEGIN:VEVENT
UID:25742
DTSTAMP:20260422T222135
DTSTART:20231201T190000
DTEND:20231201T190000
SUMMARY:Xerrada "Com escriure diàlegs que funcionin per a cinema i televisió"
LOCATION:Corredossos de Baix, 9-11 08140 Caldes de Montbui
METHOD:PUBLISH
X-WR-CALNAME:caldesm@caldesdemontbui.cat
X-WR-TIMEZONE:Europe/Madrid
DESCRIPTION:
URI:https://www.caldesdemontbui.cat/actualitat/agenda/xerrada-com-escriure-dialegs-que-funcionin-per-a-cinema-i-televisio.html
CLASS:PUBLIC
END:VEVENT
END:VCALENDAR
