BEGIN:VCALENDAR
VERSION:2.0
CALSCALE:GREGORIAN
PRODID:-//Diputació de Barcelona//DibaCMS//EN
BEGIN:VEVENT
UID:25740
DTSTAMP:20260422T122851
DTSTART:20231019T190000
DTEND:20231019T190000
SUMMARY:Conferència "Camins a Roma. La construcció de l'amor romàntic tòxic"
LOCATION: Corredossos de Baix, 9-11 (antic 1) 8140 Caldes de Montbui
METHOD:PUBLISH
X-WR-CALNAME:caldesm@caldesdemontbui.cat
X-WR-TIMEZONE:Europe/Madrid
DESCRIPTION:
URI:https://www.caldesdemontbui.cat/actualitat/agenda/conferencia-camins-a-roma-la-construccio-de-lamor-romantic-toxic.html
CLASS:PUBLIC
END:VEVENT
END:VCALENDAR
