BEGIN:VCALENDAR
VERSION:2.0
CALSCALE:GREGORIAN
PRODID:-//Diputació de Barcelona//DibaCMS//EN
BEGIN:VEVENT
UID:25704
DTSTAMP:20260422T191452
DTSTART:20231031T150000
DTEND:20231031T150000
SUMMARY:Celebració de la castanyada amb els grups del programa Gent Gran Activa
LOCATION:C. Mestre Gregori Montserrat, 4 08140 Caldes de Montbui
METHOD:PUBLISH
X-WR-CALNAME:caldesm@caldesdemontbui.cat
X-WR-TIMEZONE:Europe/Madrid
DESCRIPTION:
URI:https://www.caldesdemontbui.cat/actualitat/agenda/celebracio-de-la-castanyada-amb-els-grups-del-programa-gent-gran-activa.html
CLASS:PUBLIC
END:VEVENT
END:VCALENDAR
