BEGIN:VCALENDAR
VERSION:2.0
CALSCALE:GREGORIAN
PRODID:-//Diputació de Barcelona//DibaCMS//EN
BEGIN:VEVENT
UID:25703
DTSTAMP:20260422T191625
DTSTART:20231025T170000
DTEND:20231025T170000
SUMMARY:Balls amb el grup de country
LOCATION:C.Sentmenat, 6 8140 Caldes de Montbui
METHOD:PUBLISH
X-WR-CALNAME:caldesm@caldesdemontbui.cat
X-WR-TIMEZONE:Europe/Madrid
DESCRIPTION:
URI:https://www.caldesdemontbui.cat/actualitat/agenda/balls-amb-el-grup-de-country.html
CLASS:PUBLIC
END:VEVENT
END:VCALENDAR
