BEGIN:VCALENDAR
VERSION:2.0
CALSCALE:GREGORIAN
PRODID:-//Diputació de Barcelona//DibaCMS//EN
BEGIN:VEVENT
UID:25701
DTSTAMP:20260422T172940
DTSTART:20231018T090000
DTEND:20231018T090000
SUMMARY:Caminada a les Hortes i Can Rius
LOCATION:
METHOD:PUBLISH
X-WR-CALNAME:caldesm@caldesdemontbui.cat
X-WR-TIMEZONE:Europe/Madrid
DESCRIPTION:
URI:https://www.caldesdemontbui.cat/actualitat/agenda/caminada-a-les-hortes-i-can-rius.html
CLASS:PUBLIC
END:VEVENT
END:VCALENDAR
