BEGIN:VCALENDAR
VERSION:2.0
CALSCALE:GREGORIAN
PRODID:-//Diputació de Barcelona//DibaCMS//EN
BEGIN:VEVENT
UID:25699
DTSTAMP:20260422T140335
DTSTART:20231014T161500
DTEND:20231014T161500
SUMMARY:Concert a càrrec de Zuria&Paul
LOCATION:C.Sentmenat, 6 8140 Caldes de Montbui
METHOD:PUBLISH
X-WR-CALNAME:caldesm@caldesdemontbui.cat
X-WR-TIMEZONE:Europe/Madrid
DESCRIPTION:
URI:https://www.caldesdemontbui.cat/actualitat/agenda/concert-a-carrec-de-zuriaandpaul.html
CLASS:PUBLIC
END:VEVENT
END:VCALENDAR
