BEGIN:VCALENDAR
VERSION:2.0
CALSCALE:GREGORIAN
PRODID:-//Diputació de Barcelona//DibaCMS//EN
BEGIN:VEVENT
UID:25698
DTSTAMP:20260422T184206
DTSTART:20231013T113000
DTEND:20231013T113000
SUMMARY:Missa i ofrena floral
LOCATION:
METHOD:PUBLISH
X-WR-CALNAME:caldesm@caldesdemontbui.cat
X-WR-TIMEZONE:Europe/Madrid
DESCRIPTION:
URI:https://www.caldesdemontbui.cat/actualitat/agenda/25698-missa-i-ofrena-floral.html
CLASS:PUBLIC
END:VEVENT
END:VCALENDAR
