BEGIN:VCALENDAR
VERSION:2.0
CALSCALE:GREGORIAN
PRODID:-//Diputació de Barcelona//DibaCMS//EN
BEGIN:VEVENT
UID:25694
DTSTAMP:20260422T173159
DTSTART:20231006T161500
DTEND:20231006T161500
SUMMARY:Pregó de Festa Major i Balls amb el grup Riure per Viure
LOCATION:C.Sentmenat, 6 8140 Caldes de Montbui
METHOD:PUBLISH
X-WR-CALNAME:caldesm@caldesdemontbui.cat
X-WR-TIMEZONE:Europe/Madrid
DESCRIPTION:
URI:https://www.caldesdemontbui.cat/actualitat/agenda/prego-de-festa-major-i-balls-amb-el-grup-riure-per-viure.html
CLASS:PUBLIC
END:VEVENT
END:VCALENDAR
