BEGIN:VCALENDAR
VERSION:2.0
CALSCALE:GREGORIAN
PRODID:-//Diputació de Barcelona//DibaCMS//EN
BEGIN:VEVENT
UID:25692
DTSTAMP:20260422T140605
DTSTART:20231013T190000
DTEND:20231013T190000
SUMMARY:Acte inaugural de l'Aula de la Universitat a l'Abast a Caldes de Montbui
LOCATION:Carrer del Pont, 3 08140 Caldes de Montbui
METHOD:PUBLISH
X-WR-CALNAME:caldesm@caldesdemontbui.cat
X-WR-TIMEZONE:Europe/Madrid
DESCRIPTION:
URI:https://www.caldesdemontbui.cat/actualitat/agenda/acte-inaugural-de-laula-de-la-universitat-a-labast-a-caldes-de-montbui.html
CLASS:PUBLIC
END:VEVENT
END:VCALENDAR
