BEGIN:VCALENDAR
VERSION:2.0
CALSCALE:GREGORIAN
PRODID:-//Diputació de Barcelona//DibaCMS//EN
BEGIN:VEVENT
UID:25684
DTSTAMP:20260422T170757
DTSTART:20231005T193000
DTEND:20231028T200000
SUMMARY:Exposició "Collagegonia" de Mswahwah
LOCATION: Corredossos de Baix, 9-11 (antic 1) 8140 Caldes de Montbui
METHOD:PUBLISH
X-WR-CALNAME:caldesm@caldesdemontbui.cat
X-WR-TIMEZONE:Europe/Madrid
DESCRIPTION:
URI:https://www.caldesdemontbui.cat/actualitat/agenda/exposicio-collagegonia-de-mswahwah.html
CLASS:PUBLIC
END:VEVENT
END:VCALENDAR
