BEGIN:VCALENDAR
VERSION:2.0
CALSCALE:GREGORIAN
PRODID:-//Diputació de Barcelona//DibaCMS//EN
BEGIN:VEVENT
UID:25680
DTSTAMP:20260424T103324
DTSTART:20231213T190000
DTEND:20231213T190000
SUMMARY:L'art de la màgia: allò que no és un secret
LOCATION:Carrer del Pont, 3 08140 Caldes de Montbui
METHOD:PUBLISH
X-WR-CALNAME:caldesm@caldesdemontbui.cat
X-WR-TIMEZONE:Europe/Madrid
DESCRIPTION:
URI:https://www.caldesdemontbui.cat/actualitat/agenda/lart-de-la-magia-allo-que-no-es-un-secret.html
CLASS:PUBLIC
END:VEVENT
END:VCALENDAR
