BEGIN:VCALENDAR
VERSION:2.0
CALSCALE:GREGORIAN
PRODID:-//Diputació de Barcelona//DibaCMS//EN
BEGIN:VEVENT
UID:25676
DTSTAMP:20260422T222238
DTSTART:20231004T190000
DTEND:20231004T190000
SUMMARY:Taula rodona "Tot recordant a Delfí Dalmau i Argermir"
LOCATION:Carrer del Pont, 3 08140 Caldes de Montbui
METHOD:PUBLISH
X-WR-CALNAME:caldesm@caldesdemontbui.cat
X-WR-TIMEZONE:Europe/Madrid
DESCRIPTION:
URI:https://www.caldesdemontbui.cat/actualitat/agenda/taula-rodona-tot-recordant-a-delfi-dalmau-i-argermir.html
CLASS:PUBLIC
END:VEVENT
END:VCALENDAR
