BEGIN:VCALENDAR
VERSION:2.0
CALSCALE:GREGORIAN
PRODID:-//Diputació de Barcelona//DibaCMS//EN
BEGIN:VEVENT
UID:25658
DTSTAMP:20260422T175427
DTSTART:20231006T190000
DTEND:20231006T190000
SUMMARY:Inauguració de l'exposició de les obres de l’alumnat adult del Taller d’Art del 6 al 15 d’octubre, a la Sala Delger
LOCATION:Carrer del Forn, 8bis 08140 Caldes de Montbui
METHOD:PUBLISH
X-WR-CALNAME:caldesm@caldesdemontbui.cat
X-WR-TIMEZONE:Europe/Madrid
DESCRIPTION:
URI:https://www.caldesdemontbui.cat/actualitat/agenda/inauguracio-de-lexposicio-de-les-obres-de-lalumnat-adult-del-taller-dart-del-6-al-15-doctubre-a-la-sala-delger.html
CLASS:PUBLIC
END:VEVENT
END:VCALENDAR
