BEGIN:VCALENDAR
VERSION:2.0
CALSCALE:GREGORIAN
PRODID:-//Diputació de Barcelona//DibaCMS//EN
BEGIN:VEVENT
UID:25657
DTSTAMP:20260422T165805
DTSTART:20231001T200000
DTEND:20231001T200000
SUMMARY:Scott Law & Aaron Feder
LOCATION:Corredossos de Baix, 9-11 08140 Caldes de Montbui
METHOD:PUBLISH
X-WR-CALNAME:caldesm@caldesdemontbui.cat
X-WR-TIMEZONE:Europe/Madrid
DESCRIPTION:
URI:https://www.caldesdemontbui.cat/actualitat/agenda/scott-law-and-aaron-feder.html
CLASS:PUBLIC
END:VEVENT
END:VCALENDAR
