BEGIN:VCALENDAR
VERSION:2.0
CALSCALE:GREGORIAN
PRODID:-//Diputació de Barcelona//DibaCMS//EN
BEGIN:VEVENT
UID:25648
DTSTAMP:20260422T205652
DTSTART:20231005T190000
DTEND:20231005T190000
SUMMARY:Presentació del llibre 'Mort i oblit a Djelfa' l'exili de Joaquim Picañol Xalabarder i família
LOCATION:Carrer del Pont, 3 08140 Caldes de Montbui
METHOD:PUBLISH
X-WR-CALNAME:caldesm@caldesdemontbui.cat
X-WR-TIMEZONE:Europe/Madrid
DESCRIPTION:
URI:https://www.caldesdemontbui.cat/actualitat/agenda/presentacio-del-llibre-mort-i-oblit-a-djelfa-lexili-de-joaquim-picanol-xalabarder-i-familia.html
CLASS:PUBLIC
END:VEVENT
END:VCALENDAR
