BEGIN:VCALENDAR
VERSION:2.0
CALSCALE:GREGORIAN
PRODID:-//Diputació de Barcelona//DibaCMS//EN
BEGIN:VEVENT
UID:25645
DTSTAMP:20260422T135047
DTSTART:20231014T080000
DTEND:20231014T235900
SUMMARY:Festa Major 2023. Capvuitada 
LOCATION:
METHOD:PUBLISH
X-WR-CALNAME:caldesm@caldesdemontbui.cat
X-WR-TIMEZONE:Europe/Madrid
DESCRIPTION:
URI:https://www.caldesdemontbui.cat/actualitat/agenda/festa-major-2023-capvuitada-.html
CLASS:PUBLIC
END:VEVENT
END:VCALENDAR
