BEGIN:VCALENDAR
VERSION:2.0
CALSCALE:GREGORIAN
PRODID:-//Diputació de Barcelona//DibaCMS//EN
BEGIN:VEVENT
UID:25642
DTSTAMP:20260422T140228
DTSTART:20231011T180000
DTEND:20231011T235900
SUMMARY:Festa Major 2023  
LOCATION:
METHOD:PUBLISH
X-WR-CALNAME:caldesm@caldesdemontbui.cat
X-WR-TIMEZONE:Europe/Madrid
DESCRIPTION:
URI:https://www.caldesdemontbui.cat/actualitat/agenda/25642-festa-major-2023-.html
CLASS:PUBLIC
END:VEVENT
END:VCALENDAR
