BEGIN:VCALENDAR
VERSION:2.0
CALSCALE:GREGORIAN
PRODID:-//Diputació de Barcelona//DibaCMS//EN
BEGIN:VEVENT
UID:25637
DTSTAMP:20260423T215116
DTSTART:20231001T100000
DTEND:20231001T150000
SUMMARY:Fira Outlet
LOCATION:
METHOD:PUBLISH
X-WR-CALNAME:caldesm@caldesdemontbui.cat
X-WR-TIMEZONE:Europe/Madrid
DESCRIPTION:
URI:https://www.caldesdemontbui.cat/actualitat/agenda/25637-fira-outlet.html
CLASS:PUBLIC
END:VEVENT
END:VCALENDAR
