BEGIN:VCALENDAR
VERSION:2.0
CALSCALE:GREGORIAN
PRODID:-//Diputació de Barcelona//DibaCMS//EN
BEGIN:VEVENT
UID:25606
DTSTAMP:20260423T011059
DTSTART:20230913T183000
DTEND:20230913T200000
SUMMARY:Marxa exploratòria: sessió de retorn 
LOCATION:Sessió virtual amb inscripció prèvia 
METHOD:PUBLISH
X-WR-CALNAME:caldesm@caldesdemontbui.cat
X-WR-TIMEZONE:Europe/Madrid
DESCRIPTION:
URI:https://www.caldesdemontbui.cat/actualitat/agenda/marxa-exploratoria-sessio-de-retorn-.html
CLASS:PUBLIC
END:VEVENT
END:VCALENDAR
